BEGIN:VCALENDAR
VERSION:2.0
PRODID:-//Conroe Table - ECPv6.15.20//NONSGML v1.0//EN
CALSCALE:GREGORIAN
METHOD:PUBLISH
X-ORIGINAL-URL:https://conroetable.com
X-WR-CALDESC:Events for Conroe Table
REFRESH-INTERVAL;VALUE=DURATION:PT1H
X-Robots-Tag:noindex
X-PUBLISHED-TTL:PT1H
BEGIN:VTIMEZONE
TZID:UTC
BEGIN:STANDARD
TZOFFSETFROM:+0000
TZOFFSETTO:+0000
TZNAME:UTC
DTSTART:20250101T000000
END:STANDARD
END:VTIMEZONE
BEGIN:VEVENT
DTSTART;TZID=UTC:20260227T110000
DTEND;TZID=UTC:20260227T220000
DTSTAMP:20260422T174007
CREATED:20230202T082239Z
LAST-MODIFIED:20260205T204124Z
UID:1653-1772190000-1772229600@conroetable.com
SUMMARY:Cousins Maine Lobster Guest Food Truck at The Table !
DESCRIPTION:🦞 One Day Only! 🦞 \nCousins Maine Lobster will be a guest food truck at The Table at Madeley on Friday\, February 27\, 2026 from  11:00 AM to 10:00 PM as part of a food-truck park event at the venue’s outdoor space in Conroe\, TX. \nExperience a Full Bar\, Great food and unmatchable indoor & outdoor space. \nWhat to expect\n🍴 Menu highlights likely include: \n\n\nMaine\, Connecticut & garlic lobster rolls \n\n\nLobster tacos & quesadillas \n\n\nLobster tots & lobster tails \n\n\nLobster grilled cheese \n\n\nLobster bisque & clam chowder \n\n\nWhoopie pies and desserts \n\n\n🍹 The Table at Madeley offers a relaxed outdoor setting with full bar drinks and music (Ellis Bullard is also playing later that evening). \n📍 Location: 316 Madeley Street\, Conroe\, TX 77301 (food truck park area of The Table at Madeley).
URL:https://conroetable.com/event/cousins-maine-lobster-guest-food-truck-at-the-table/
LOCATION:The Table at Madeley\, 316 Madeley Street\, Conroe\, TX\, 77301\, United States
CATEGORIES:Family Friendly,Fun things at The Table,Guest Food Truck,Pet Friendly
ATTACH;FMTTYPE=image/png:https://conroetable.com/wp-content/uploads/2023/02/Lobster-feast-at-The-Table.png
ORGANIZER;CN="The Table at Madeley":MAILTO:events@conroetable.com
END:VEVENT
END:VCALENDAR