BEGIN:VCALENDAR
VERSION:2.0
PRODID:-//Conroe Table - ECPv6.15.20//NONSGML v1.0//EN
CALSCALE:GREGORIAN
METHOD:PUBLISH
X-WR-CALNAME:Conroe Table
X-ORIGINAL-URL:https://conroetable.com
X-WR-CALDESC:Events for Conroe Table
REFRESH-INTERVAL;VALUE=DURATION:PT1H
X-Robots-Tag:noindex
X-PUBLISHED-TTL:PT1H
BEGIN:VTIMEZONE
TZID:UTC
BEGIN:STANDARD
TZOFFSETFROM:+0000
TZOFFSETTO:+0000
TZNAME:UTC
DTSTART:20240101T000000
END:STANDARD
END:VTIMEZONE
BEGIN:VEVENT
DTSTART;TZID=UTC:20250731T110000
DTEND;TZID=UTC:20250802T220000
DTSTAMP:20260422T064930
CREATED:20250715T160954Z
LAST-MODIFIED:20250715T161253Z
UID:3363-1753959600-1754172000@conroetable.com
SUMMARY:Gabino's Woodfire Pizza - Guest Food Truck at The Table !
DESCRIPTION:🍕 3 Day’s Only! 🍕The Table at Madeley is proud to welcome Gabino’s Woodfire Pizza as our featured food truck! \n📍 Thurs 7/31   –  11 AM – 9 PM \n📍 Fri 8/1   –  11 AM – 10 PM \n📍 Sat 8/2   –  11 AM – 10 PM \nConroe’s freshest pizza cooked by fire no propane! \nDon’t miss your chance to sink your teeth into something special.Only at The Table!
URL:https://conroetable.com/event/gabinos-woodfire-pizza-guest-food-truck-at-the-table/
LOCATION:The Table at Madeley\, 316 Madeley Street\, Conroe\, TX\, 77301\, United States
CATEGORIES:Family Friendly,Fun things at The Table,Guest Food Truck,Pet Friendly
ATTACH;FMTTYPE=image/png:https://conroetable.com/wp-content/uploads/2025/07/gabino-guest.png
ORGANIZER;CN="The Table at Madeley":MAILTO:events@conroetable.com
END:VEVENT
END:VCALENDAR