BEGIN:VCALENDAR
VERSION:2.0
PRODID:-//Conroe Table - ECPv6.15.20//NONSGML v1.0//EN
CALSCALE:GREGORIAN
METHOD:PUBLISH
X-WR-CALNAME:Conroe Table
X-ORIGINAL-URL:https://conroetable.com
X-WR-CALDESC:Events for Conroe Table
REFRESH-INTERVAL;VALUE=DURATION:PT1H
X-Robots-Tag:noindex
X-PUBLISHED-TTL:PT1H
BEGIN:VTIMEZONE
TZID:UTC
BEGIN:STANDARD
TZOFFSETFROM:+0000
TZOFFSETTO:+0000
TZNAME:UTC
DTSTART:20220101T000000
END:STANDARD
END:VTIMEZONE
BEGIN:VEVENT
DTSTART;TZID=UTC:20230512T110000
DTEND;TZID=UTC:20230512T220000
DTSTAMP:20260419T215901
CREATED:20230424T225622Z
LAST-MODIFIED:20230424T225622Z
UID:1834-1683889200-1683928800@conroetable.com
SUMMARY:Lip Smackers Burgers & More - Guest Food Truck at The Table !
DESCRIPTION: 11:00 am – 10:00 pm\n \nWe love bringing Conroe some of the best food trucks in the Houston Area. Our guest truck From 5/12-5/14  is Lip Smackers Burgers & More. Made with 100% verified Wagyu Beef for Burgers \, Chicken Fried steak!! Dont miss this popular & quality truck.
URL:https://conroetable.com/event/lip-smackers-burgers-more-guest-food-truck-at-the-table/
LOCATION:The Table at Madeley\, 316 Madeley Street\, Conroe\, TX\, 77301\, United States
CATEGORIES:Family Friendly,Fun things at The Table,Guest Food Truck,Pet Friendly
ATTACH;FMTTYPE=image/jpeg:https://conroetable.com/wp-content/uploads/2023/04/IMG20230219150633-scaled.jpg
ORGANIZER;CN="The Table at Madeley":MAILTO:events@conroetable.com
END:VEVENT
BEGIN:VEVENT
DTSTART;TZID=UTC:20230513T110000
DTEND;TZID=UTC:20230513T220000
DTSTAMP:20260419T215901
CREATED:20230424T225730Z
LAST-MODIFIED:20230424T225730Z
UID:1838-1683975600-1684015200@conroetable.com
SUMMARY:Lip Smackers Burgers & More - Guest Food Truck at The Table !
DESCRIPTION: 11:00 am – 10:00 pm\n \nWe love bringing Conroe some of the best food trucks in the Houston Area. Our guest truck From 5/12-5/14  is Lip Smackers Burgers & More. Made with 100% verified Wagyu Beef for Burgers \, Chicken Fried steak!! Dont miss this popular & quality truck.
URL:https://conroetable.com/event/lip-smackers-burgers-more-guest-food-truck-at-the-table-2/
LOCATION:The Table at Madeley\, 316 Madeley Street\, Conroe\, TX\, 77301\, United States
CATEGORIES:Family Friendly,Fun things at The Table,Guest Food Truck,Pet Friendly
ATTACH;FMTTYPE=image/jpeg:https://conroetable.com/wp-content/uploads/2023/04/IMG20230219150633-scaled.jpg
ORGANIZER;CN="The Table at Madeley":MAILTO:events@conroetable.com
END:VEVENT
BEGIN:VEVENT
DTSTART;TZID=UTC:20230514T120000
DTEND;TZID=UTC:20230514T180000
DTSTAMP:20260419T215901
CREATED:20230424T225840Z
LAST-MODIFIED:20230424T225840Z
UID:1840-1684065600-1684087200@conroetable.com
SUMMARY:Lip Smackers Burgers & More - Guest Food Truck at The Table !
DESCRIPTION: 12:00 pm – 6:00 pm\n \nWe love bringing Conroe some of the best food trucks in the Houston Area. Our guest truck From 5/12-5/14  is Lip Smackers Burgers & More. Made with 100% verified Wagyu Beef for Burgers \, Chicken Fried steak!! Dont miss this popular & quality truck.
URL:https://conroetable.com/event/lip-smackers-burgers-more-guest-food-truck-at-the-table-3/
LOCATION:The Table at Madeley\, 316 Madeley Street\, Conroe\, TX\, 77301\, United States
CATEGORIES:Family Friendly,Fun things at The Table,Guest Food Truck,Pet Friendly
ATTACH;FMTTYPE=image/jpeg:https://conroetable.com/wp-content/uploads/2023/04/IMG20230219150633-scaled.jpg
ORGANIZER;CN="The Table at Madeley":MAILTO:events@conroetable.com
END:VEVENT
END:VCALENDAR