BEGIN:VCALENDAR
VERSION:2.0
PRODID:-//Conroe Table - ECPv6.15.20//NONSGML v1.0//EN
CALSCALE:GREGORIAN
METHOD:PUBLISH
X-ORIGINAL-URL:https://conroetable.com
X-WR-CALDESC:Events for Conroe Table
REFRESH-INTERVAL;VALUE=DURATION:PT1H
X-Robots-Tag:noindex
X-PUBLISHED-TTL:PT1H
BEGIN:VTIMEZONE
TZID:UTC
BEGIN:STANDARD
TZOFFSETFROM:+0000
TZOFFSETTO:+0000
TZNAME:UTC
DTSTART:20230101T000000
END:STANDARD
END:VTIMEZONE
BEGIN:VTIMEZONE
TZID:America/Los_Angeles
BEGIN:DAYLIGHT
TZOFFSETFROM:-0800
TZOFFSETTO:-0700
TZNAME:PDT
DTSTART:20230312T100000
END:DAYLIGHT
BEGIN:STANDARD
TZOFFSETFROM:-0700
TZOFFSETTO:-0800
TZNAME:PST
DTSTART:20231105T090000
END:STANDARD
BEGIN:DAYLIGHT
TZOFFSETFROM:-0800
TZOFFSETTO:-0700
TZNAME:PDT
DTSTART:20240310T100000
END:DAYLIGHT
BEGIN:STANDARD
TZOFFSETFROM:-0700
TZOFFSETTO:-0800
TZNAME:PST
DTSTART:20241103T090000
END:STANDARD
BEGIN:DAYLIGHT
TZOFFSETFROM:-0800
TZOFFSETTO:-0700
TZNAME:PDT
DTSTART:20250309T100000
END:DAYLIGHT
BEGIN:STANDARD
TZOFFSETFROM:-0700
TZOFFSETTO:-0800
TZNAME:PST
DTSTART:20251102T090000
END:STANDARD
END:VTIMEZONE
BEGIN:VEVENT
DTSTART;TZID=UTC:20240906T193000
DTEND;TZID=UTC:20240906T210000
DTSTAMP:20260422T034156
CREATED:20240702T004049Z
LAST-MODIFIED:20240702T004049Z
UID:2604-1725651000-1725656400@conroetable.com
SUMMARY:Kate Watson  Live at The Table at Madeley! [ GET TICKETS ]
DESCRIPTION:The Table at Madeley and Woodforest Bank presents Kate Watson on the Downtown Conroe Live Stage. \nLineup: \n7:30pm – 9:00pm = Kate Watson Release Party! \n  \nKate Watson is the self-proclaimed “gun-totin’\, buckle-wearin’\, mama-lovin’\, God-fearin'” Texan who is grabbing the country music scene by its longhorns. \nWith over one million likes on Tik-Tok and a combined ninety thousand followers across all social media platforms\, Watson accredits her fanbase and influence to the one driving force in her life: devotion. \nAs the reverent daughter of Christian recording artist and worship leader\, Jesse Watson\, Kate learned early on the combination of prayer and hard work was the winning formula for growing a diverse fanbase that would land her standing ovations all across the country including one from Lionel Richie at her 2019 American Idol Audition. \nKate still works closely with her musical family at the Lone Star Cowboy Church in Montgomery\, Texas\, the largest cowboy church in the world and the spiritual home of several country recording artists\, most notably Cody Johnson and Jesse Raub\, Jr. \nTheir church is where country recording star\, Parker McCollum\, first heard Kate sing. “She’s the real deal\,” said McCollum. “She has the total package: the voice\, the look\, and the way she connects with people. I am looking forward to great things from her.”
URL:https://conroetable.com/event/kate-watson-live-at-the-table-at-madeley-get-tickets/
LOCATION:The Table at Madeley\, 316 Madeley Street\, Conroe\, TX\, 77301\, United States
CATEGORIES:country
ATTACH;FMTTYPE=image/jpeg:https://conroetable.com/wp-content/uploads/2024/07/kate-watson.jpg
ORGANIZER;CN="The Table at Madeley":MAILTO:events@conroetable.com
END:VEVENT
BEGIN:VEVENT
DTSTART;TZID=America/Los_Angeles:20240907T190000
DTEND;TZID=America/Los_Angeles:20240907T210000
DTSTAMP:20260422T034156
CREATED:20240802T025930Z
LAST-MODIFIED:20240802T025930Z
UID:2628-1725735600-1725742800@conroetable.com
SUMMARY:Jonah Miles -  Live at The Table at Madeley!
DESCRIPTION:Jonah Miles began his artist career early with his performance on America’s Got Talent at the young age of 13. Jonah began playing guitar at age 12 and signing by the time he was 15. Fast forwarding to his formative years at Texas’s finest art school “Houston School of Performing and Visual Arts (HSPVA)”; it was abundantly clear that music would never leave the horizon as his number one goal. Jonah has opened as a support act for regional and national recording artists such as John Conlee\, Jack Ingram\, Gary P. Nunn\, Sundance Head\, Roger Creager\, Glen Templeton\, Brian Black\, Rich O Toole\, and more. Furthermore\, Jonah Miles’ debut single\, “Houston\, Here I Come”\, charted in the Top 100 of the Texas Regional Radio Chart for 28 weeks. Jonah has made a name for himself through his unique vintage sound that embraces his new flavor on traditional roots.
URL:https://conroetable.com/event/jonah-miles-live-at-the-table-at-madeley/
LOCATION:The Table at Madeley\, 316 Madeley Street\, Conroe\, TX\, 77301\, United States
CATEGORIES:American Classics,Americana,country,Family Friendly,Songwriter Showcase
ATTACH;FMTTYPE=image/jpeg:https://conroetable.com/wp-content/uploads/2024/08/jonah-Miles.jpg
ORGANIZER;CN="The Table at Madeley":MAILTO:events@conroetable.com
END:VEVENT
BEGIN:VEVENT
DTSTART;TZID=UTC:20240928T120000
DTEND;TZID=UTC:20240928T150000
DTSTAMP:20260422T034156
CREATED:20231116T195747Z
LAST-MODIFIED:20240923T011032Z
UID:2205-1727524800-1727535600@conroetable.com
SUMMARY:Saturday Lunch Jams Witn Shaggy Dog on Piano
DESCRIPTION:12:00pm – 3:00 pm = \nJoin us each Saturday in December for Lunch Jams with Shaggy Dog on Piano. Enjoy live music from Christmas\, classics\, Jazz\, Country and Blues songs to fill the air and add to your experience while drinking and dining at The Table.\n 
URL:https://conroetable.com/event/saturday-lunch-jams-witn-shaggy-dog-on-piano-2/
LOCATION:The Table at Madeley\, 316 Madeley Street\, Conroe\, TX\, 77301\, United States
CATEGORIES:Blues,Christmas,country,Jazz
ATTACH;FMTTYPE=image/jpeg:https://conroetable.com/wp-content/uploads/2023/11/Recently-used-18.jpg
ORGANIZER;CN="The Table at Madeley":MAILTO:events@conroetable.com
END:VEVENT
END:VCALENDAR